BEGIN:VCALENDAR
VERSION:2.0
PRODID:icalendar-ruby
CALSCALE:GREGORIAN
METHOD:PUBLISH
BEGIN:VTIMEZONE
TZID:Australia/Brisbane
BEGIN:STANDARD
DTSTART:19920301T020000
TZOFFSETFROM:+1100
TZOFFSETTO:+1000
TZNAME:AEST
END:STANDARD
END:VTIMEZONE
BEGIN:VEVENT
DTSTAMP:20260423T082512Z
UID:inspection_3011249
DTSTART;TZID=Australia/Brisbane:20260426T103000
DTEND;TZID=Australia/Brisbane:20260426T110000
CLASS:PUBLIC
CREATED:20260423T142532
DESCRIPTION: 
LAST-MODIFIED:20260423T142532
LOCATION:4 Almond Court\, BUSHLAND BEACH QLD 4818\, Australia
SUMMARY:4 Almond Court\,  Inspection
URL;VALUE=URI:http://www.northernrealty.com.au/
END:VEVENT
END:VCALENDAR
